BEGIN:VCALENDAR
VERSION:2.0
PRODID:-//François-Xavier Bagnoud Center - ECPv6.7.0//NONSGML v1.0//EN
CALSCALE:GREGORIAN
METHOD:PUBLISH
X-WR-CALNAME:François-Xavier Bagnoud Center
X-ORIGINAL-URL:https://fxbcenter.org
X-WR-CALDESC:Events for François-Xavier Bagnoud Center
REFRESH-INTERVAL;VALUE=DURATION:PT1H
X-Robots-Tag:noindex
X-PUBLISHED-TTL:PT1H
BEGIN:VTIMEZONE
TZID:UTC
BEGIN:STANDARD
TZOFFSETFROM:+0000
TZOFFSETTO:+0000
TZNAME:UTC
DTSTART:20250101T000000
END:STANDARD
END:VTIMEZONE
BEGIN:VEVENT
DTSTART;TZID=UTC:20250820T120000
DTEND;TZID=UTC:20250820T133000
DTSTAMP:20260420T164302
CREATED:20250815T150129Z
LAST-MODIFIED:20250815T150129Z
UID:1907-1755691200-1755696600@fxbcenter.org
SUMMARY:Until We're Strong Enough to Stand: A Story Slam from New Jersey's Community Health Workers
DESCRIPTION:Wednesday\, August 20\, 2025\, 12-1:30 PM ETThis is a virtual creative storytelling initiative that centers on the lived experiences of New Jersey’s community health workers. It is open to HIV service providers\, public health affiliates\, friends\, family\, and community members. Hosted in collaboration with the Jefferson Health AIDS Education & Training Center and the New Jersey HIV Community Support and Development Initiative. \nRegister here \nContact Vanessa Herrera at Vanessa.Herrera@readyaiminnovate.com with any questions.
URL:https://fxbcenter.org/event/until-were-strong-enough-to-stand-a-story-slam-from-new-jerseys-community-health-workers/
CATEGORIES:Public Events
END:VEVENT
END:VCALENDAR