BEGIN:VCALENDAR
VERSION:2.0
PRODID:-//François-Xavier Bagnoud Center - ECPv6.7.0//NONSGML v1.0//EN
CALSCALE:GREGORIAN
METHOD:PUBLISH
X-ORIGINAL-URL:https://fxbcenter.org
X-WR-CALDESC:Events for François-Xavier Bagnoud Center
REFRESH-INTERVAL;VALUE=DURATION:PT1H
X-Robots-Tag:noindex
X-PUBLISHED-TTL:PT1H
BEGIN:VTIMEZONE
TZID:UTC
BEGIN:STANDARD
TZOFFSETFROM:+0000
TZOFFSETTO:+0000
TZNAME:UTC
DTSTART:20250101T000000
END:STANDARD
END:VTIMEZONE
BEGIN:VEVENT
DTSTART;TZID=UTC:20250627T081500
DTEND;TZID=UTC:20250627T160000
DTSTAMP:20260421T083930
CREATED:20250528T175031Z
LAST-MODIFIED:20250528T175452Z
UID:1850-1751012100-1751040000@fxbcenter.org
SUMMARY:Registration for the 2025 HIV Clinical Update is now OPEN!
DESCRIPTION:June 27\, 2025\, 8:15 am – 4:00 pm\, APA Hotel Woodbridge\, Iselin\, NJ \nThe 2025 HIV Clinical Update brings together HIV primary care providers to share and discuss statewide trends\, treatment updates\, care models\, policy changes\, and more. \nPre-registration is required; registration fee includes CEUs\, continental breakfast\, hot lunch\, afternoon snack\, and parking. Registration will close at 3:00 pm on Monday\, June 23rd\, or sooner if capacity is reached. \nContact Michelle Thompson at ccthomps@sn.rutgers.edu with any questions or for special accommodations. \nThis New Jersey Statewide Symposium is sponsored by Rutgers School of Nursing FXB Center\, Rutgers School of Nursing Center for Professional Development\, and the Rutgers School of Social Work\, made possible through an education grant from the NJDOH-Division of HIV\, STD\, and TB Services.
URL:https://fxbcenter.org/event/registration-for-the-2025-hiv-clinical-update-is-now-open/
LOCATION:APA Hotel Woodbridge\, 120 Wood Avenue South\, Iselin\, 08830\, United States
CATEGORIES:Public Events
ATTACH;FMTTYPE=image/png:https://sites.rutgers.edu/fxb-center/wp-content/uploads/sites/1152/2025/05/HIVclinical-update-image.png
END:VEVENT
BEGIN:VEVENT
DTSTART;TZID=UTC:20250630T123000
DTEND;TZID=UTC:20250630T160000
DTSTAMP:20260421T083930
CREATED:20250616T203937Z
LAST-MODIFIED:20250616T204354Z
UID:1872-1751286600-1751299200@fxbcenter.org
SUMMARY:Breaking the Ice: A Community-Informed Conversation on HIV Prevention and Substance Use Care
DESCRIPTION:Engage with local experts in the field of HIV prevention & treatment\, and substance use treatment & recovery\, and other key stakeholders in ending the HIV epidemic. Documentary parTy boi: black diamonds in ice castles\, a Micheal Rice film\, will be featured and discussed. \nPanelists include: \n\nMichael Rice\, Founder & Creative Director\, Michael Rice Entertainment\nReginald Bledsoe\, Director\, Essex County Office of LGBTQ+ Affairs\nJamir Tuten\, Community Liaison\, Gilead Sciences\, Inc.\nJeremy D. Kidd\, Assistant Professor\, Clinical Psychiatry\, Columbia University\n\nThe target audience for this program is substance use treatment facility and LGBTQ organization staff. \nLight refreshments will be served followed by a talk-back with expert panelists. \nRegister soon! Space is limited. \nPresented by the FXB Center\, Rutgers School of Nursing\, Northeast/Caribbean AETC\, Essex County\, End the Epidemic NJ\, and the Opioid Response Network.
URL:https://fxbcenter.org/event/breaking-the-ice-a-community-informed-conversation-on-hiv-prevention-and-substance-use-care/
LOCATION:Rutgers Medical Science Bldg\, Rosemary Gellene Room\, 185 South Orange Ave\, Newark\, 07103\, United States
CATEGORIES:Public Events
END:VEVENT
END:VCALENDAR