BEGIN:VCALENDAR
VERSION:2.0
PRODID:-//François-Xavier Bagnoud Center - ECPv6.7.0//NONSGML v1.0//EN
CALSCALE:GREGORIAN
METHOD:PUBLISH
X-ORIGINAL-URL:https://fxbcenter.org
X-WR-CALDESC:Events for François-Xavier Bagnoud Center
REFRESH-INTERVAL;VALUE=DURATION:PT1H
X-Robots-Tag:noindex
X-PUBLISHED-TTL:PT1H
BEGIN:VTIMEZONE
TZID:UTC
BEGIN:STANDARD
TZOFFSETFROM:+0000
TZOFFSETTO:+0000
TZNAME:UTC
DTSTART:20250101T000000
END:STANDARD
END:VTIMEZONE
BEGIN:VEVENT
DTSTART;TZID=UTC:20251209T100000
DTEND;TZID=UTC:20251209T111500
DTSTAMP:20260423T034729
CREATED:20251117T180444Z
LAST-MODIFIED:20251117T181740Z
UID:1994-1765274400-1765278900@fxbcenter.org
SUMMARY:World AIDS Day Webinar! Centering Black Women in HIV Prevention
DESCRIPTION:In recognition of World AIDS Day\, December 1\, and as a reminder that there is still much to do to end the HIV epidemic\, please join the FXB Center for Centering Black Women in HIV Prevention: Advancing Equitable Access to PrEP\, a webinar on increasing awareness and uptake of HIV prevention options for Black women\, who\, among all women in the U.S.\, are disproportionately impacted by HIV. \nSpeakers: \nDr. Dottie Rains-Dowdell\, Program Director\, New Jersey HIV Planning Group \nJudy Collins\, Marketing Manager\, Take PrEP & Take Charge HIV Prevention Awareness Campaign\, FXB Center \nDownload/view the program flyer for more information. Please share it with your network. \nRegister
URL:https://fxbcenter.org/event/world-aids-day-webinar-centering-black-women-in-hiv-prevention/
END:VEVENT
BEGIN:VEVENT
DTSTART;TZID=UTC:20260325T120000
DTEND;TZID=UTC:20260325T130000
DTSTAMP:20260423T034729
CREATED:20260309T172624Z
LAST-MODIFIED:20260319T173333Z
UID:2081-1774440000-1774443600@fxbcenter.org
SUMMARY:HIV and Infant Feeding Webinar: March 25\, 2026\, 12-1 pm ET
DESCRIPTION:Webinar: HIV and Infant Feeding: Navigating HIV and Infant Feeding Under the Updated HHS Guidelines.  \nPresented by Emily Anne Barr\, PhD\, CNM\, CPNP-PC\, ACRN\, FACNM\, FAAN\, this session will explore the updated recommendations through real-world case studies and clinical examples\, highlighting interdisciplinary collaboration and strategies to support families from birth through the first year of life. This program has been approved for 1.0 CNE contact hours. \nDownload program flyer \nRegister here \n 
URL:https://fxbcenter.org/event/hiv-and-infant-feeding-webinar-march-25-2026-12-1-pm-et/
CATEGORIES:Public Events
ATTACH;FMTTYPE=image/png:https://sites.rutgers.edu/fxb-center/wp-content/uploads/sites/1152/2026/03/HIV-and-infant-feeding-image.png
END:VEVENT
BEGIN:VEVENT
DTSTART;TZID=UTC:20260415T120000
DTEND;TZID=UTC:20260415T130000
DTSTAMP:20260423T034729
CREATED:20260309T174021Z
LAST-MODIFIED:20260309T174110Z
UID:2089-1776254400-1776258000@fxbcenter.org
SUMMARY:Approaches to Lactation in Substance Use Disorders Webinar: April 15\, 2026\, 12-1 pm ET
DESCRIPTION:Webinar: Evidence-Based Approaches to Lactation in Substance Use Disorders \nPresented by Mollie Nisen\, MD\, FASAM\, this program will explore evidence-informed approaches toward supporting lactation in the context of substance use disorders and recovery. Participants will gain practical tools – rooted in harm reduction\, evidence-based medicine\, and trauma-informed care to design and implement hospital protocols\, effectively counsel patients\, and promote realistic and patient-centered decision-making for parents affected by substance use disorders (SUDs). \nDownload program flyer \nRegister here \n 
URL:https://fxbcenter.org/event/approaches-to-lactation-in-substance-use-disorders-webinar-april-15-2026-12-1-pm-et/
CATEGORIES:Public Events
ATTACH;FMTTYPE=image/png:https://sites.rutgers.edu/fxb-center/wp-content/uploads/sites/1152/2026/03/lactation-SUD-image.png
END:VEVENT
BEGIN:VEVENT
DTSTART;TZID=UTC:20260428T081500
DTEND;TZID=UTC:20260428T160000
DTSTAMP:20260423T034729
CREATED:20260226T221221Z
LAST-MODIFIED:20260311T134145Z
UID:2058-1777364100-1777392000@fxbcenter.org
SUMMARY:Registration is Open for the 2026 New Jersey Statewide Nursing Summit
DESCRIPTION:Join us for the New Jersey Statewide Nursing Summit: Uniting the Field on Tuesday\, April 28\, 2026\, at the New Jersey Hospital Association in Princeton\, NJ. \nThis year’s conference will bring together professionals from across the care continuum to explore emerging trends in HIV and topics relevant to primary care providers\, share best practices\, and strengthen our statewide nursing community. ANCC Contact Hours (6.0 hours) will be provided. Registration fee includes conference materials\, continental breakfast\, hot lunch\, afternoon break\, and parking. Pre-registration is required. Registration will close on Wednesday\, April 22\, 2026. \nContact Michelle Thompson ccthomps@sn.rutgers.edu with questions or for more information. \nDownload Flyer: Nursing Summit 2026-1
URL:https://fxbcenter.org/event/registration-is-open-for-the-new-jersey-statewide-nursing-summit/
LOCATION:New Jersey Hospital Association\, 760 Alexander Rd\, Princeton\, NJ\, 08540\, United States
CATEGORIES:Public Events
ATTACH;FMTTYPE=image/png:https://sites.rutgers.edu/fxb-center/wp-content/uploads/sites/1152/2026/02/Nursing-summit-image.png
END:VEVENT
END:VCALENDAR